BEGIN:VCALENDAR
VERSION:2.0
PRODID:-//Lakeside Hotel Casino - ECPv6.15.17.1//NONSGML v1.0//EN
CALSCALE:GREGORIAN
METHOD:PUBLISH
X-WR-CALNAME:Lakeside Hotel Casino
X-ORIGINAL-URL:https://lakesidehotelcasino.com
X-WR-CALDESC:Events for Lakeside Hotel Casino
REFRESH-INTERVAL;VALUE=DURATION:PT1H
X-Robots-Tag:noindex
X-PUBLISHED-TTL:PT1H
BEGIN:VTIMEZONE
TZID:UTC
BEGIN:STANDARD
TZOFFSETFROM:+0000
TZOFFSETTO:+0000
TZNAME:UTC
DTSTART:20240101T000000
END:STANDARD
END:VTIMEZONE
BEGIN:VEVENT
DTSTART;TZID=UTC:20251231T080000
DTEND;TZID=UTC:20260126T220000
DTSTAMP:20260425T135058
CREATED:20251231T171957Z
LAST-MODIFIED:20251231T171957Z
UID:4009-1767168000-1769464800@lakesidehotelcasino.com
SUMMARY:SNOWFALL KIOSK GAME
DESCRIPTION:Mondays* • 10am-10pm\nSwipe to receive your FREE kiosk game to win\nFree Play\, Coffee Vouchers\, Points and more! \n*Excludes 1/19/26.
URL:https://lakesidehotelcasino.com/event/snowfall-kiosk-game/
CATEGORIES:Promotions
ATTACH;FMTTYPE=image/jpeg:https://lakesidehotelcasino.com/wp-content/uploads/2025/12/26-ls-jan-snowfall-kg.jpg
END:VEVENT
BEGIN:VEVENT
DTSTART;TZID=UTC:20251231T080000
DTEND;TZID=UTC:20260226T200000
DTSTAMP:20260425T135058
CREATED:20251231T171815Z
LAST-MODIFIED:20260130T170105Z
UID:4008-1767168000-1772136000@lakesidehotelcasino.com
SUMMARY:WINTER WINNINGS HOT SEAT
DESCRIPTION:Thursdays • 4pm-8pm\n2 winners every 30 minutes will play for Free Play prizes.
URL:https://lakesidehotelcasino.com/event/winter-winnings-hot-seat/
CATEGORIES:Promotions
ATTACH;FMTTYPE=image/jpeg:https://lakesidehotelcasino.com/wp-content/uploads/2025/12/26-ls-jan-winter-winnigs-hs.jpg
END:VEVENT
BEGIN:VEVENT
DTSTART;TZID=UTC:20251231T080000
DTEND;TZID=UTC:20260330T210000
DTSTAMP:20260425T135058
CREATED:20251231T173015Z
LAST-MODIFIED:20260227T161302Z
UID:4012-1767168000-1774904400@lakesidehotelcasino.com
SUMMARY:BEEF STROGANOFF
DESCRIPTION:OVER EGG NOODLES\nMondays | 11am-9pm\nFREE\nFOR 100 BASE POINTS EARNED \nUntil sold out.
URL:https://lakesidehotelcasino.com/event/philly-cheesesteak/
CATEGORIES:Promotions
ATTACH;FMTTYPE=image/jpeg:https://lakesidehotelcasino.com/wp-content/uploads/2026/02/26-ls-mar-beef-stroganoff.jpg
END:VEVENT
BEGIN:VEVENT
DTSTART;TZID=UTC:20251231T080000
DTEND;TZID=UTC:20260330T220000
DTSTAMP:20260425T135058
CREATED:20251231T171540Z
LAST-MODIFIED:20260305T174449Z
UID:4005-1767168000-1774908000@lakesidehotelcasino.com
SUMMARY:HOOP! THERE IT GOES! KIOSK GAME
DESCRIPTION:Mondays • 10am-10pm\nSwipe to receive your FREE kiosk game to win Free Play\, Coffee Vouchers\, Points and more!
URL:https://lakesidehotelcasino.com/event/mlk-day-2500-kiosk-game/
CATEGORIES:Promotions
ATTACH;FMTTYPE=image/jpeg:https://lakesidehotelcasino.com/wp-content/uploads/2026/02/26-ls-mar-hoop-kg.jpg
END:VEVENT
BEGIN:VEVENT
DTSTART;TZID=UTC:20260130T080000
DTEND;TZID=UTC:20260214T220000
DTSTAMP:20260425T135058
CREATED:20260130T170817Z
LAST-MODIFIED:20260130T170817Z
UID:4032-1769760000-1771106400@lakesidehotelcasino.com
SUMMARY:VALENTINE’S DAY SPECIAL
DESCRIPTION:Saturday\, February 14 | 4pm-10pm\n$39.95\nAdd Garlic Shrimp Scampi $9.99 \n12oz Ribeye or ó Smoked Chicken\, red potatoes\, asparagus & dessert.
URL:https://lakesidehotelcasino.com/event/valentines-day-special/
CATEGORIES:Promotions
ATTACH;FMTTYPE=image/jpeg:https://lakesidehotelcasino.com/wp-content/uploads/2026/01/26-ls-feb-valentines-day-special.jpg
END:VEVENT
BEGIN:VEVENT
DTSTART;TZID=UTC:20260130T080000
DTEND;TZID=UTC:20260223T210000
DTSTAMP:20260425T135058
CREATED:20260130T172631Z
LAST-MODIFIED:20260130T172631Z
UID:4036-1769760000-1771880400@lakesidehotelcasino.com
SUMMARY:MEATLOAF MASHED POTATOES & GRAVY
DESCRIPTION:Mondays | 11am-9pm\nFREE\nFOR 100 BASE POINTS EARNED \nUntil sold out.
URL:https://lakesidehotelcasino.com/event/meatloaf-mashed-potatoes-gravy/
CATEGORIES:Promotions
ATTACH;FMTTYPE=image/jpeg:https://lakesidehotelcasino.com/wp-content/uploads/2026/01/26-ls-feb-meatloaf.jpg
END:VEVENT
BEGIN:VEVENT
DTSTART;TZID=UTC:20260130T080000
DTEND;TZID=UTC:20260223T220000
DTSTAMP:20260425T135058
CREATED:20260130T170327Z
LAST-MODIFIED:20260130T170327Z
UID:4029-1769760000-1771884000@lakesidehotelcasino.com
SUMMARY:MARDI GRAS KIOSK GAME
DESCRIPTION:Mondays* • 10am-10pm\nSwipe to receive your FREE kiosk game to win\nFree Play\, Coffee Vouchers\, Points and more! \n*Excludes 2/16/26.
URL:https://lakesidehotelcasino.com/event/mardi-gras-kiosk-game/
CATEGORIES:Promotions
ATTACH;FMTTYPE=image/jpeg:https://lakesidehotelcasino.com/wp-content/uploads/2026/01/26-ls-feb-mardi-gras-kg.jpg
END:VEVENT
BEGIN:VEVENT
DTSTART;TZID=UTC:20260130T080000
DTEND;TZID=UTC:20260228T200000
DTSTAMP:20260425T135058
CREATED:20260130T171224Z
LAST-MODIFIED:20260130T171224Z
UID:4033-1769760000-1772308800@lakesidehotelcasino.com
SUMMARY:$15\,000 SUPER SWEET GIVEAWAY
DESCRIPTION:Saturday\, February 28 • 5pm-8pm\nTwo winners every 15 minutes receive $250 Free Play.\nAt 8pm\, three winners will play for $2\,000\, $3\,000 or $4\,000 CASH! \nSWIPE DAILY IN FEBRUARY FOR FREE ENTRY\nBONUS ENTRY with every 100 slot base points earned 10X ENTRIES daily 2am-6am • 15X ENTRIES Fridays 8pm-11:59pm \nEARN 100 SLOT BASE POINTS ON SUNDAYS FOR MORE BONUS ENTRIES!  \n2\,500 ENTRIES for GM Club • 1\,000 ENTRIES for Platinum • 500 ENTRIES for Gold
URL:https://lakesidehotelcasino.com/event/15000-super-sweet-giveaway/
CATEGORIES:Promotions
ATTACH;FMTTYPE=image/jpeg:https://lakesidehotelcasino.com/wp-content/uploads/2026/01/26-ls-feb-super-sweet-giveaway.jpg
END:VEVENT
BEGIN:VEVENT
DTSTART;TZID=UTC:20260130T080000
DTEND;TZID=UTC:20260331T160000
DTSTAMP:20260425T135058
CREATED:20260130T172354Z
LAST-MODIFIED:20260227T161748Z
UID:4035-1769760000-1774972800@lakesidehotelcasino.com
SUMMARY:FREE CRISPY BAR
DESCRIPTION:Tuesdays | 12pm-4pm\nFREE\nRedeem kiosk voucher at the Upper Level Bar.
URL:https://lakesidehotelcasino.com/event/philly-egg-roll/
CATEGORIES:Promotions
ATTACH;FMTTYPE=image/jpeg:https://lakesidehotelcasino.com/wp-content/uploads/2026/02/26-ls-mar-crispy-bar.jpg
END:VEVENT
BEGIN:VEVENT
DTSTART;TZID=UTC:20260130T080000
DTEND;TZID=UTC:20260331T160000
DTSTAMP:20260425T135058
CREATED:20260130T172747Z
LAST-MODIFIED:20260227T161651Z
UID:4037-1769760000-1774972800@lakesidehotelcasino.com
SUMMARY:CORNED BEEF & CABBAGE
DESCRIPTION:Sunday-Thursday | 4pm\n$17\nUntil sold out.
URL:https://lakesidehotelcasino.com/event/cajun-loaded-baked-potato/
CATEGORIES:Promotions
ATTACH;FMTTYPE=image/jpeg:https://lakesidehotelcasino.com/wp-content/uploads/2026/02/26-ls-mar-corned-beef-cabbage.jpg
END:VEVENT
BEGIN:VEVENT
DTSTART;TZID=UTC:20260130T080000
DTEND;TZID=UTC:20260428T220000
DTSTAMP:20260425T135058
CREATED:20260130T171348Z
LAST-MODIFIED:20260401T190808Z
UID:4034-1769760000-1777413600@lakesidehotelcasino.com
SUMMARY:POURING POINTS MYSTERY 5X-100X MULTIPLIER
DESCRIPTION:Tuesdays • 10am-10pm\nSwipe to activate. Your multiplier could be as high as \n100X POINTS!\n500\,000 point maximum. Daily point multiplier unavailable 10pm–11:59pm.
URL:https://lakesidehotelcasino.com/event/fat-tuesday-mystery-5x-100x-multiplier/
CATEGORIES:Promotions
ATTACH;FMTTYPE=image/jpeg:https://lakesidehotelcasino.com/wp-content/uploads/2026/04/26-ls-apr-pouring-points-multiplier.jpg
END:VEVENT
BEGIN:VEVENT
DTSTART;TZID=UTC:20260206T080000
DTEND;TZID=UTC:20260430T170000
DTSTAMP:20260425T135058
CREATED:20260206T201006Z
LAST-MODIFIED:20260206T201006Z
UID:4040-1770364800-1777568400@lakesidehotelcasino.com
SUMMARY:WYNDHAM REWARDS
DESCRIPTION:Lakeside Hotel & Casino is now a part of the Wyndham Rewards Program. \nLearn more about Wyndham Rewards\nand join for free! \nJOIN NOW
URL:https://lakesidehotelcasino.com/event/wyndham-rewards/
CATEGORIES:Promotions
ATTACH;FMTTYPE=image/jpeg:https://lakesidehotelcasino.com/wp-content/uploads/2026/02/Wyndham-LS-web.jpg
END:VEVENT
BEGIN:VEVENT
DTSTART;TZID=UTC:20260227T080000
DTEND;TZID=UTC:20260326T200000
DTSTAMP:20260425T135058
CREATED:20260227T155954Z
LAST-MODIFIED:20260227T155954Z
UID:4057-1772179200-1774555200@lakesidehotelcasino.com
SUMMARY:SHAMROCK SHENANIGANS HOT SEAT
DESCRIPTION:Thursdays • 4pm-8pm\n2 winners every 30 minutes will play for Free Play prizes.
URL:https://lakesidehotelcasino.com/event/shamrock-shenanigans-hot-seat/
CATEGORIES:Promotions
ATTACH;FMTTYPE=image/jpeg:https://lakesidehotelcasino.com/wp-content/uploads/2026/02/26-ls-mar-shamrock-shenanigans-hs.jpg
END:VEVENT
BEGIN:VEVENT
DTSTART;TZID=UTC:20260227T080000
DTEND;TZID=UTC:20260328T213000
DTSTAMP:20260425T135058
CREATED:20260227T155800Z
LAST-MODIFIED:20260227T155800Z
UID:4056-1772179200-1774733400@lakesidehotelcasino.com
SUMMARY:BET. WIN. DRIVE!
DESCRIPTION:Saturday\, March 28 • 9:30pm\nWINNER WILL DRIVE OFF IN A 2026 BUICK ENVISTA ST! \nFRIDAYS* & SATURDAYS IN MARCH • 7PM–9PM\nTWO WINNERS EVERY 15 MINUTES RECEIVE A QUALIFYING ENTRY! \nSWIPE DAILY IN MARCH FOR FREE ENTRY \nBONUS ENTRY with every 100 slot base points earned 10X ENTRIES daily 2am-6am • 15X ENTRIES Fridays 8pm-11:59pm \nEARN 100 SLOT BASE POINTS ON SUNDAYS FOR MORE BONUS ENTRIES! \n2\,500 ENTRIES for GM Club • 1\,000 ENTRIES for Platinum • 500 ENTRIES for Gold \n*Excludes Friday\, March 20.
URL:https://lakesidehotelcasino.com/event/bet-win-drive/
CATEGORIES:Promotions
ATTACH;FMTTYPE=image/jpeg:https://lakesidehotelcasino.com/wp-content/uploads/2026/02/26-ls-mar-bet-win-drive.jpg
END:VEVENT
BEGIN:VEVENT
DTSTART;TZID=UTC:20260306T000000
DTEND;TZID=UTC:20260404T193000
DTSTAMP:20260425T135058
CREATED:20260306T213834Z
LAST-MODIFIED:20260306T214352Z
UID:4070-1772755200-1775331000@lakesidehotelcasino.com
SUMMARY:DIRTY LITTLE SECRETS COMEDY SHOW
DESCRIPTION:Saturday\, April 4 | 7:30pm\nGet ready to laugh till your sides hurt at the Dirty Little Secrets Comedy Show –\na night of hilarious jokes and non-stop entertainment! \nDirty Secrets is built around anonymous audience submissions that I read and riff on from the stage. There\nare no volunteers\, no pressure on the crowd\, and every show is completely different. The result is a room\nthat feels engaged\, safe\, and laughing together from start to finish. \nGET TICKETS
URL:https://lakesidehotelcasino.com/event/dirty-little-secrets-comedy-show/
CATEGORIES:Promotions
ATTACH;FMTTYPE=image/jpeg:https://lakesidehotelcasino.com/wp-content/uploads/2026/03/26-ls-mar-dirty-little-secrets.jpg
END:VEVENT
BEGIN:VEVENT
DTSTART;TZID=UTC:20260326T080000
DTEND;TZID=UTC:20260405T210000
DTSTAMP:20260425T135058
CREATED:20230331T060540Z
LAST-MODIFIED:20260327T134018Z
UID:2558-1774512000-1775422800@lakesidehotelcasino.com
SUMMARY:EASTER BRUNCH
DESCRIPTION:Sunday\, April 5 | 9am-9pm\n$29.95\nGlazed Ham\, Mashed Potatoes and Gravy\, Green Beans\, Assorted Desserts and More.
URL:https://lakesidehotelcasino.com/event/easter-champagne-brunch-26-95/
CATEGORIES:Promotions
ATTACH;FMTTYPE=image/jpeg:https://lakesidehotelcasino.com/wp-content/uploads/2023/03/26-ls-apr-easter-brunch.jpg
END:VEVENT
BEGIN:VEVENT
DTSTART;TZID=UTC:20260401T080000
DTEND;TZID=UTC:20260425T210000
DTSTAMP:20260425T135058
CREATED:20260401T185708Z
LAST-MODIFIED:20260401T185708Z
UID:4103-1775030400-1777150800@lakesidehotelcasino.com
SUMMARY:$15\,000 RAINBOW OF RICHES
DESCRIPTION:Saturday\, April 25 • 6pm-9pm\nTWO WINNERS EVERY 15 MINUTES WILL RECEIVE $250 IN FREE PLAY.\nPlus\, at 9PM three winners will play to win $2\,000\, $3\,000 OR $4\,000 CASH!\nSecond chance drawing at 10PM. 10 WINNERS WILL WIN $100 IN FREE PLAY! \nSWIPE DAILY IN APRIL FOR FREE ENTRY\nBONUS ENTRY with every 100 slot base points earned\n10X ENTRIES daily 2am-6am • 15X ENTRIES Fridays 8pm-11:59pm \nEARN 100 SLOT BASE POINTS ON SUNDAYS FOR MORE BONUS ENTRIES!\n2\,500 ENTRIES for GM Club • 1\,000 ENTRIES for Platinum • 500 ENTRIES for Gold
URL:https://lakesidehotelcasino.com/event/15000-rainbow-of-riches/
CATEGORIES:Promotions
ATTACH;FMTTYPE=image/jpeg:https://lakesidehotelcasino.com/wp-content/uploads/2026/04/26-ls-apr-rainbow-of-riches.jpg
END:VEVENT
BEGIN:VEVENT
DTSTART;TZID=UTC:20260401T080000
DTEND;TZID=UTC:20260425T220000
DTSTAMP:20260425T135058
CREATED:20260401T185900Z
LAST-MODIFIED:20260401T185907Z
UID:4104-1775030400-1777154400@lakesidehotelcasino.com
SUMMARY:$25\,000 BAILEY’S BOARD HOT SEAT
DESCRIPTION:Saturdays in April • 7pm-10pm\nOne winner every 30 minutes will play Bailey’s Board for a chance to win \n$25\,000 CASH!!\nExcludes April 25th.
URL:https://lakesidehotelcasino.com/event/25000-baileys-board-hot-seat/
CATEGORIES:Promotions
ATTACH;FMTTYPE=image/jpeg:https://lakesidehotelcasino.com/wp-content/uploads/2026/04/26-ls-apr-baileys-board-hs.jpg
END:VEVENT
BEGIN:VEVENT
DTSTART;TZID=UTC:20260401T080000
DTEND;TZID=UTC:20260427T220000
DTSTAMP:20260425T135058
CREATED:20260401T190159Z
LAST-MODIFIED:20260401T190159Z
UID:4106-1775030400-1777327200@lakesidehotelcasino.com
SUMMARY:MONEY HONEY KIOSK GAME
DESCRIPTION:Mondays • 10am-10pm\nSwipe to receive your FREE kiosk game to win\nFree Play\, Coffee Vouchers\, Points and more!
URL:https://lakesidehotelcasino.com/event/money-honey-kiosk-game/
CATEGORIES:Promotions
ATTACH;FMTTYPE=image/jpeg:https://lakesidehotelcasino.com/wp-content/uploads/2026/04/26-ls-apr-money-honey-kg.jpg
END:VEVENT
BEGIN:VEVENT
DTSTART;TZID=UTC:20260401T080000
DTEND;TZID=UTC:20260428T160000
DTSTAMP:20260425T135058
CREATED:20260401T191953Z
LAST-MODIFIED:20260401T191953Z
UID:4111-1775030400-1777392000@lakesidehotelcasino.com
SUMMARY:NATIONAL SOFT PRETZEL MONTH
DESCRIPTION:Tuesdays | 12pm-4pm\nFREE\nRedeem kiosk voucher at the Upper Level Bar.
URL:https://lakesidehotelcasino.com/event/national-soft-pretzel-month/
CATEGORIES:Promotions
ATTACH;FMTTYPE=image/jpeg:https://lakesidehotelcasino.com/wp-content/uploads/2026/04/26-ls-apr-soft-pretzel.jpg
END:VEVENT
BEGIN:VEVENT
DTSTART;TZID=UTC:20260401T080000
DTEND;TZID=UTC:20260430T160000
DTSTAMP:20260425T135058
CREATED:20260401T192227Z
LAST-MODIFIED:20260401T192227Z
UID:4112-1775030400-1777564800@lakesidehotelcasino.com
SUMMARY:CHICKEN PASTA PRIMAVERA
DESCRIPTION:Sunday-Thursday | 4pm\n$15.95\nUntil sold out.
URL:https://lakesidehotelcasino.com/event/chicken-pasta-primavera/
CATEGORIES:Promotions
ATTACH;FMTTYPE=image/jpeg:https://lakesidehotelcasino.com/wp-content/uploads/2026/04/26-ls-apr-chicken-primavera.jpg
END:VEVENT
BEGIN:VEVENT
DTSTART;TZID=UTC:20260401T080000
DTEND;TZID=UTC:20260430T200000
DTSTAMP:20260425T135058
CREATED:20260401T190525Z
LAST-MODIFIED:20260401T190525Z
UID:4107-1775030400-1777579200@lakesidehotelcasino.com
SUMMARY:BRING THE RAIN HOT SEAT
DESCRIPTION:Thursdays • 4pm-8pm\n2 winners every 30 minutes will play for Free Play prizes.
URL:https://lakesidehotelcasino.com/event/bring-the-rain-hot-seat/
CATEGORIES:Promotions
ATTACH;FMTTYPE=image/jpeg:https://lakesidehotelcasino.com/wp-content/uploads/2026/04/26-ls-apr-bring-the-rain-hs.jpg
END:VEVENT
BEGIN:VEVENT
DTSTART;TZID=UTC:20260424T080000
DTEND;TZID=UTC:20260505T210000
DTSTAMP:20260425T135058
CREATED:20260424T183923Z
LAST-MODIFIED:20260424T183923Z
UID:4138-1777017600-1778014800@lakesidehotelcasino.com
SUMMARY:CINCO DE MAYO SPECIAL
DESCRIPTION:Tuesday\, May 5 | 4pm-9pm\nLoaded Chimichanga \n$13.95
URL:https://lakesidehotelcasino.com/event/cinco-de-mayo-special/
CATEGORIES:Promotions
ATTACH;FMTTYPE=image/jpeg:https://lakesidehotelcasino.com/wp-content/uploads/2026/04/26-ls-may-5-cinco-de-mayo.jpg
END:VEVENT
BEGIN:VEVENT
DTSTART;VALUE=DATE:20260620
DTEND;VALUE=DATE:20260621
DTSTAMP:20260425T135058
CREATED:20260424T182331Z
LAST-MODIFIED:20260424T182852Z
UID:4135-1781913600-1781999999@lakesidehotelcasino.com
SUMMARY:THE NADAS
DESCRIPTION:Saturday\, June 20 | 7:30pm\nCelebrated folk-Americana act The Nadas have amassed a loyal and dedicated following over the past three decades for\ntheir engaging live shows and distinctive 70s-meets-90s sound. Blending twangy\, Stones-era “country honk” with raw\,\nalt-rock energy and wistful\, folk-leaning melodies\, their music is as alive as it is authentic. Over 30 years of making music\ntogether\, The Nadas have shared the stage with The Beach Boys\, Bon Jovi\, Big Head Todd and Barenaked Ladies\, been\ninducted into the Iowa Rock ‘n’ Roll Hall of Fame\, sold over 300\,000 albums (even in a time when you can’t buy a\nCD player)\, earned praise from a wide range of major publications (including Playboy)\, and written the theme song for\ntheir hometown—twice. They’ve also developed a laid-back\, narrative approach to songwriting\, drawing inspiration from\nacts like The Head and the Heart\, Avett Brothers\, Indigo Girls\, and Tom Petty\, to explore the everyday joys and\nheartaches that make up a life.
URL:https://lakesidehotelcasino.com/event/the-nadas/
CATEGORIES:Promotions
ATTACH;FMTTYPE=image/jpeg:https://lakesidehotelcasino.com/wp-content/uploads/2026/04/26-ls-may-the-nadas.jpg
END:VEVENT
END:VCALENDAR